BEGIN:VCALENDAR
VERSION:2.0
PRODID:-//mWEB//NONSGML mWEB//NB
URL:https://www.auremisjonshus.no/kalender/ics
X-WR-CALNAME:Aure Misjonshus
REFRESH-INTERVAL;VALUE=DURATION:PT6H
X-PUBLISHED-TTL:PT6H    
CALSCALE:GREGORIAN
BEGIN:VEVENT
UID:auremisjonshus.no-362
DTSTAMP:20260425T000655Z
DTSTART:20180402T173000Z
DTEND:20180402T190000Z
URL:https://www.auremisjonshus.no/kalender/2018/04/02/skardsgrenda-bedehus-paskemote-2-paskedag/362/
CREATED:20180108T142550Z
LAST-MODIFIED:20180108T142550Z
SUMMARY:Skardsgrenda bedehus: Påskemøte 2. påskedag
DESCRIPTION:Asbjørn Barlaup talar.\n\nhttps://www.auremisjonshus.no/kalender/2018/04/02/skardsgrenda-bedehus-paskemote-2-paskedag/362/
END:VEVENT

END:VCALENDAR