BEGIN:VCALENDAR
VERSION:2.0
PRODID:-//mWEB//NONSGML mWEB//NB
URL:https://www.auremisjonshus.no/kalender/ics
X-WR-CALNAME:Aure Misjonshus
REFRESH-INTERVAL;VALUE=DURATION:PT6H
X-PUBLISHED-TTL:PT6H    
CALSCALE:GREGORIAN
BEGIN:VEVENT
UID:auremisjonshus.no-397
DTSTAMP:20260425T015213Z
DTSTART:20180325T090000Z
DTEND:20180325T103000Z
URL:https://www.auremisjonshus.no/kalender/2018/03/25/skarsgrenda-bedehus-paskemote-med-inger-lise-og-asmund-smenes/397/
CREATED:20180322T200317Z
LAST-MODIFIED:20180322T200411Z
SUMMARY:Skarsgrenda bedehus: Påskemøte med Inger Lise og Asmund Smenes
DESCRIPTION:Sal av mat mellom møta.\n\nhttps://www.auremisjonshus.no/kalender/2018/03/25/skarsgrenda-bedehus-paskemote-med-inger-lise-og-asmund-smenes/397/
END:VEVENT

END:VCALENDAR