BEGIN:VCALENDAR
VERSION:2.0
PRODID:-//mWEB//NONSGML mWEB//NB
URL:https://www.auremisjonshus.no/kalender/ics
X-WR-CALNAME:Aure Misjonshus
REFRESH-INTERVAL;VALUE=DURATION:PT6H
X-PUBLISHED-TTL:PT6H    
CALSCALE:GREGORIAN
BEGIN:VEVENT
UID:auremisjonshus.no-390
DTSTAMP:20260425T014906Z
DTSTART:20180322T183000Z
DTEND:20180322T200000Z
URL:https://www.auremisjonshus.no/kalender/2018/03/22/styremote-aure-misjonshuslag/390/
CREATED:20180315T192825Z
LAST-MODIFIED:20180315T192825Z
SUMMARY:Styremøte Aure Misjonshuslag
DESCRIPTION:\n\nhttps://www.auremisjonshus.no/kalender/2018/03/22/styremote-aure-misjonshuslag/390/
END:VEVENT

END:VCALENDAR