BEGIN:VCALENDAR
VERSION:2.0
PRODID:-//mWEB//NONSGML mWEB//NB
URL:https://www.auremisjonshus.no/kalender/ics
X-WR-CALNAME:Aure Misjonshus
REFRESH-INTERVAL;VALUE=DURATION:PT6H
X-PUBLISHED-TTL:PT6H    
CALSCALE:GREGORIAN
BEGIN:VEVENT
UID:auremisjonshus.no-387
DTSTAMP:20260425T015156Z
DTSTART:20180320T183000Z
DTEND:20180320T200000Z
URL:https://www.auremisjonshus.no/kalender/2018/03/20/mote-misjonen-sarepta/387/
CREATED:20180209T135540Z
LAST-MODIFIED:20180209T135540Z
SUMMARY:Møte Misjonen Sarepta
DESCRIPTION:Møte med Hans Bergane\n\nhttps://www.auremisjonshus.no/kalender/2018/03/20/mote-misjonen-sarepta/387/
END:VEVENT

END:VCALENDAR