BEGIN:VCALENDAR
VERSION:2.0
PRODID:-//mWEB//NONSGML mWEB//NB
URL:https://www.auremisjonshus.no/kalender/ics
X-WR-CALNAME:Aure Misjonshus
REFRESH-INTERVAL;VALUE=DURATION:PT6H
X-PUBLISHED-TTL:PT6H    
CALSCALE:GREGORIAN
BEGIN:VEVENT
UID:auremisjonshus.no-379
DTSTAMP:20260425T014710Z
DTSTART:20180319T100000Z
DTEND:20180319T113000Z
URL:https://www.auremisjonshus.no/kalender/2018/03/19/babysong/379/
CREATED:20180122T182753Z
LAST-MODIFIED:20180122T182753Z
SUMMARY:Babysong
DESCRIPTION:\n\nhttps://www.auremisjonshus.no/kalender/2018/03/19/babysong/379/
END:VEVENT

END:VCALENDAR