BEGIN:VCALENDAR
VERSION:2.0
PRODID:-//mWEB//NONSGML mWEB//NB
URL:https://www.auremisjonshus.no/kalender/ics
X-WR-CALNAME:Aure Misjonshus
REFRESH-INTERVAL;VALUE=DURATION:PT6H
X-PUBLISHED-TTL:PT6H    
CALSCALE:GREGORIAN
BEGIN:VEVENT
UID:auremisjonshus.no-339
DTSTAMP:20260425T015121Z
DTSTART:20180309T230000Z
DTEND:20180310T225900Z
URL:https://www.auremisjonshus.no/kalender/2018/03/10/kretsarsmote-sondagsskolen/339/
CREATED:20171210T131434Z
LAST-MODIFIED:20171210T131434Z
SUMMARY:Kretsårsmøte Søndagsskolen
DESCRIPTION:\n\nhttps://www.auremisjonshus.no/kalender/2018/03/10/kretsarsmote-sondagsskolen/339/
X-MICROSOFT-CDO-ALLDAYEVENT:TRUE
END:VEVENT

END:VCALENDAR