BEGIN:VCALENDAR
VERSION:2.0
PRODID:-//mWEB//NONSGML mWEB//NB
URL:https://www.auremisjonshus.no/kalender/ics
X-WR-CALNAME:Aure Misjonshus
REFRESH-INTERVAL;VALUE=DURATION:PT6H
X-PUBLISHED-TTL:PT6H    
CALSCALE:GREGORIAN
BEGIN:VEVENT
UID:auremisjonshus.no-344
DTSTAMP:20260425T014745Z
DTSTART:20180306T230000Z
DTEND:20180307T225900Z
URL:https://www.auremisjonshus.no/kalender/2018/03/07/oving-aure-misjonskor/344/
CREATED:20171210T132116Z
LAST-MODIFIED:20171210T132116Z
SUMMARY:Øving Aure Misjonskor
DESCRIPTION:\n\nhttps://www.auremisjonshus.no/kalender/2018/03/07/oving-aure-misjonskor/344/
X-MICROSOFT-CDO-ALLDAYEVENT:TRUE
END:VEVENT

END:VCALENDAR