BEGIN:VCALENDAR
VERSION:2.0
PRODID:-//mWEB//NONSGML mWEB//NB
URL:https://www.auremisjonshus.no/kalender/ics
X-WR-CALNAME:Aure Misjonshus
REFRESH-INTERVAL;VALUE=DURATION:PT6H
X-PUBLISHED-TTL:PT6H    
CALSCALE:GREGORIAN
BEGIN:VEVENT
UID:auremisjonshus.no-357
DTSTAMP:20260425T014533Z
DTSTART:20180306T143000Z
DTEND:20180306T160000Z
URL:https://www.auremisjonshus.no/kalender/2018/03/06/konfirmantundervisning/357/
CREATED:20180108T142030Z
LAST-MODIFIED:20180108T142030Z
SUMMARY:Konfirmantundervisning
DESCRIPTION:\n\nhttps://www.auremisjonshus.no/kalender/2018/03/06/konfirmantundervisning/357/
END:VEVENT

END:VCALENDAR