BEGIN:VCALENDAR
VERSION:2.0
PRODID:-//mWEB//NONSGML mWEB//NB
URL:https://www.auremisjonshus.no/kalender/ics
X-WR-CALNAME:Aure Misjonshus
REFRESH-INTERVAL;VALUE=DURATION:PT6H
X-PUBLISHED-TTL:PT6H    
CALSCALE:GREGORIAN
BEGIN:VEVENT
UID:auremisjonshus.no-371
DTSTAMP:20260425T014902Z
DTSTART:20180305T160000Z
DTEND:20180305T173000Z
URL:https://www.auremisjonshus.no/kalender/2018/03/05/songsprell/371/
CREATED:20180122T182434Z
LAST-MODIFIED:20180122T182434Z
SUMMARY:Songsprell
DESCRIPTION:\n\nhttps://www.auremisjonshus.no/kalender/2018/03/05/songsprell/371/
END:VEVENT

END:VCALENDAR