BEGIN:VCALENDAR
VERSION:2.0
PRODID:-//mWEB//NONSGML mWEB//NB
URL:https://www.auremisjonshus.no/kalender/ics
X-WR-CALNAME:Aure Misjonshus
REFRESH-INTERVAL;VALUE=DURATION:PT6H
X-PUBLISHED-TTL:PT6H    
CALSCALE:GREGORIAN
BEGIN:VEVENT
UID:auremisjonshus.no-378
DTSTAMP:20260425T014657Z
DTSTART:20180305T100000Z
DTEND:20180305T113000Z
URL:https://www.auremisjonshus.no/kalender/2018/03/05/babysong/378/
CREATED:20180122T182737Z
LAST-MODIFIED:20180122T182737Z
SUMMARY:Babysong
DESCRIPTION:\n\nhttps://www.auremisjonshus.no/kalender/2018/03/05/babysong/378/
END:VEVENT

END:VCALENDAR