BEGIN:VCALENDAR
VERSION:2.0
PRODID:-//mWEB//NONSGML mWEB//NB
URL:https://www.auremisjonshus.no/kalender/ics
X-WR-CALNAME:Aure Misjonshus
REFRESH-INTERVAL;VALUE=DURATION:PT6H
X-PUBLISHED-TTL:PT6H    
CALSCALE:GREGORIAN
BEGIN:VEVENT
UID:auremisjonshus.no-365
DTSTAMP:20260425T015023Z
DTSTART:20180304T150000Z
DTEND:20180304T163000Z
URL:https://www.auremisjonshus.no/kalender/2018/03/04/sundagssamling-normisjon/365/
CREATED:20180110T125318Z
LAST-MODIFIED:20180110T125318Z
SUMMARY:Sundagssamling Normisjon
DESCRIPTION:\n\nhttps://www.auremisjonshus.no/kalender/2018/03/04/sundagssamling-normisjon/365/
END:VEVENT

END:VCALENDAR