BEGIN:VCALENDAR
VERSION:2.0
PRODID:-//mWEB//NONSGML mWEB//NB
URL:https://www.auremisjonshus.no/kalender/ics
X-WR-CALNAME:Aure Misjonshus
REFRESH-INTERVAL;VALUE=DURATION:PT6H
X-PUBLISHED-TTL:PT6H    
CALSCALE:GREGORIAN
BEGIN:VEVENT
UID:auremisjonshus.no-383
DTSTAMP:20260425T014830Z
DTSTART:20180302T180000Z
DTEND:20180302T193000Z
URL:https://www.auremisjonshus.no/kalender/2018/03/02/gladsangkveld/383/
CREATED:20180122T182910Z
LAST-MODIFIED:20180211T163816Z
SUMMARY:Gladsangkveld
DESCRIPTION:\n\nhttps://www.auremisjonshus.no/kalender/2018/03/02/gladsangkveld/383/
END:VEVENT

END:VCALENDAR