BEGIN:VCALENDAR
VERSION:2.0
PRODID:-//mWEB//NONSGML mWEB//NB
URL:https://www.auremisjonshus.no/kalender/ics
X-WR-CALNAME:Aure Misjonshus
REFRESH-INTERVAL;VALUE=DURATION:PT6H
X-PUBLISHED-TTL:PT6H    
CALSCALE:GREGORIAN
BEGIN:VEVENT
UID:auremisjonshus.no-335
DTSTAMP:20260425T014623Z
DTSTART:20180228T230000Z
DTEND:20180301T225900Z
URL:https://www.auremisjonshus.no/kalender/2018/03/01/mote-samemisjonen/335/
CREATED:20171114T111240Z
LAST-MODIFIED:20171210T132545Z
SUMMARY:Møte Samemisjonen
DESCRIPTION:\n\nhttps://www.auremisjonshus.no/kalender/2018/03/01/mote-samemisjonen/335/
X-MICROSOFT-CDO-ALLDAYEVENT:TRUE
END:VEVENT

END:VCALENDAR