BEGIN:VCALENDAR
VERSION:2.0
PRODID:-//mWEB//NONSGML mWEB//NB
URL:https://www.auremisjonshus.no/kalender/ics
X-WR-CALNAME:Aure Misjonshus
REFRESH-INTERVAL;VALUE=DURATION:PT6H
X-PUBLISHED-TTL:PT6H    
CALSCALE:GREGORIAN
BEGIN:VEVENT
UID:auremisjonshus.no-388
DTSTAMP:20260425T033424Z
DTSTART:20180227T163000Z
DTEND:20180227T180000Z
URL:https://www.auremisjonshus.no/kalender/2018/02/27/orneklubb/388/
CREATED:20180227T155336Z
LAST-MODIFIED:20180227T155336Z
SUMMARY:Ørneklubb
DESCRIPTION:\n\nhttps://www.auremisjonshus.no/kalender/2018/02/27/orneklubb/388/
END:VEVENT

END:VCALENDAR