BEGIN:VCALENDAR
VERSION:2.0
PRODID:-//mWEB//NONSGML mWEB//NB
URL:https://www.auremisjonshus.no/kalender/ics
X-WR-CALNAME:Aure Misjonshus
REFRESH-INTERVAL;VALUE=DURATION:PT6H
X-PUBLISHED-TTL:PT6H    
CALSCALE:GREGORIAN
BEGIN:VEVENT
UID:auremisjonshus.no-377
DTSTAMP:20260425T033539Z
DTSTART:20180226T100000Z
DTEND:20180226T113000Z
URL:https://www.auremisjonshus.no/kalender/2018/02/26/babysong/377/
CREATED:20180122T182725Z
LAST-MODIFIED:20180122T182725Z
SUMMARY:Babysong
DESCRIPTION:\n\nhttps://www.auremisjonshus.no/kalender/2018/02/26/babysong/377/
END:VEVENT

END:VCALENDAR