BEGIN:VCALENDAR
VERSION:2.0
PRODID:-//mWEB//NONSGML mWEB//NB
URL:https://www.auremisjonshus.no/kalender/ics
X-WR-CALNAME:Aure Misjonshus
REFRESH-INTERVAL;VALUE=DURATION:PT6H
X-PUBLISHED-TTL:PT6H    
CALSCALE:GREGORIAN
BEGIN:VEVENT
UID:auremisjonshus.no-369
DTSTAMP:20260425T033420Z
DTSTART:20180205T160000Z
DTEND:20180205T173000Z
URL:https://www.auremisjonshus.no/kalender/2018/02/05/songsprell/369/
CREATED:20180122T182413Z
LAST-MODIFIED:20180122T182413Z
SUMMARY:Songsprell
DESCRIPTION:\n\nhttps://www.auremisjonshus.no/kalender/2018/02/05/songsprell/369/
END:VEVENT

END:VCALENDAR