BEGIN:VCALENDAR
VERSION:2.0
PRODID:-//mWEB//NONSGML mWEB//NB
URL:https://www.auremisjonshus.no/kalender/ics
X-WR-CALNAME:Aure Misjonshus
REFRESH-INTERVAL;VALUE=DURATION:PT6H
X-PUBLISHED-TTL:PT6H    
CALSCALE:GREGORIAN
BEGIN:VEVENT
UID:auremisjonshus.no-305
DTSTAMP:20260425T101726Z
DTSTART:20171030T100000Z
DTEND:20171030T113000Z
URL:https://www.auremisjonshus.no/kalender/2017/10/30/babysang/305/
CREATED:20170904T154158Z
LAST-MODIFIED:20170904T154158Z
SUMMARY:Babysang
DESCRIPTION:\n\nhttps://www.auremisjonshus.no/kalender/2017/10/30/babysang/305/
END:VEVENT

END:VCALENDAR