BEGIN:VCALENDAR
VERSION:2.0
PRODID:-//mWEB//NONSGML mWEB//NB
URL:https://www.auremisjonshus.no/kalender/ics
X-WR-CALNAME:Aure Misjonshus
REFRESH-INTERVAL;VALUE=DURATION:PT6H
X-PUBLISHED-TTL:PT6H    
CALSCALE:GREGORIAN
BEGIN:VEVENT
UID:auremisjonshus.no-285
DTSTAMP:20260425T102048Z
DTSTART:20171024T220000Z
DTEND:20171025T215900Z
URL:https://www.auremisjonshus.no/kalender/2017/10/25/oving-aure-misjonskor/285/
CREATED:20170810T195312Z
LAST-MODIFIED:20170810T195312Z
SUMMARY:Øving Aure Misjonskor
DESCRIPTION:\n\nhttps://www.auremisjonshus.no/kalender/2017/10/25/oving-aure-misjonskor/285/
LOCATION:Aure misjonshus
X-MICROSOFT-CDO-ALLDAYEVENT:TRUE
END:VEVENT

END:VCALENDAR