BEGIN:VCALENDAR
VERSION:2.0
PRODID:-//mWEB//NONSGML mWEB//NB
URL:https://www.auremisjonshus.no/kalender/ics
X-WR-CALNAME:Aure Misjonshus
REFRESH-INTERVAL;VALUE=DURATION:PT6H
X-PUBLISHED-TTL:PT6H    
CALSCALE:GREGORIAN
BEGIN:VEVENT
UID:auremisjonshus.no-277
DTSTAMP:20260425T102345Z
DTSTART:20171025T173000Z
DTEND:20171025T190000Z
URL:https://www.auremisjonshus.no/kalender/2017/10/25/kjorsvikbugen-bedehus-moteveke-med-kjell-aardal/277/
CREATED:20170625T205301Z
LAST-MODIFIED:20170625T205354Z
SUMMARY:Kjørsvikbugen bedehus: Møteveke med Kjell Aardal
DESCRIPTION:Tysdag 24. oktober: Aure misjonshus\n\nOnsdag 25. oktober: Kjørsvikbugen bedehus\n\nTorsdag 26. oktober: Skarsgrenda bedehus\n\nFredag 27. oktober: Leira bedehus\n\nLaurdag28. oktober: Lesund bedehus\n\nSundag 29. oktober: Aure misjonshus\n\nhttps://www.auremisjonshus.no/kalender/2017/10/25/kjorsvikbugen-bedehus-moteveke-med-kjell-aardal/277/
END:VEVENT

END:VCALENDAR