BEGIN:VCALENDAR
VERSION:2.0
PRODID:-//mWEB//NONSGML mWEB//NB
URL:https://www.auremisjonshus.no/kalender/ics
X-WR-CALNAME:Aure Misjonshus
REFRESH-INTERVAL;VALUE=DURATION:PT6H
X-PUBLISHED-TTL:PT6H    
CALSCALE:GREGORIAN
BEGIN:VEVENT
UID:auremisjonshus.no-324
DTSTAMP:20260425T101807Z
DTSTART:20171022T220000Z
DTEND:20171023T215900Z
URL:https://www.auremisjonshus.no/kalender/2017/10/23/utleige/324/
CREATED:20170927T194940Z
LAST-MODIFIED:20170927T194940Z
SUMMARY:Utleige
DESCRIPTION:\n\nhttps://www.auremisjonshus.no/kalender/2017/10/23/utleige/324/
X-MICROSOFT-CDO-ALLDAYEVENT:TRUE
END:VEVENT

END:VCALENDAR