BEGIN:VCALENDAR
VERSION:2.0
PRODID:-//mWEB//NONSGML mWEB//NB
URL:https://www.auremisjonshus.no/kalender/ics
X-WR-CALNAME:Aure Misjonshus
REFRESH-INTERVAL;VALUE=DURATION:PT6H
X-PUBLISHED-TTL:PT6H    
CALSCALE:GREGORIAN
BEGIN:VEVENT
UID:auremisjonshus.no-311
DTSTAMP:20260425T101914Z
DTSTART:20171016T150000Z
DTEND:20171016T163000Z
URL:https://www.auremisjonshus.no/kalender/2017/10/16/sangsprell/311/
CREATED:20170904T154328Z
LAST-MODIFIED:20170904T154328Z
SUMMARY:Sangsprell
DESCRIPTION:\n\nhttps://www.auremisjonshus.no/kalender/2017/10/16/sangsprell/311/
END:VEVENT

END:VCALENDAR