BEGIN:VCALENDAR
VERSION:2.0
PRODID:-//mWEB//NONSGML mWEB//NB
URL:https://www.auremisjonshus.no/kalender/ics
X-WR-CALNAME:Aure Misjonshus
REFRESH-INTERVAL;VALUE=DURATION:PT6H
X-PUBLISHED-TTL:PT6H    
CALSCALE:GREGORIAN
BEGIN:VEVENT
UID:auremisjonshus.no-290
DTSTAMP:20260425T102346Z
DTSTART:20171004T220000Z
DTEND:20171005T215900Z
URL:https://www.auremisjonshus.no/kalender/2017/10/05/eldres-hyggestund/290/
CREATED:20170817T123231Z
LAST-MODIFIED:20170817T123231Z
SUMMARY:Eldres hyggestund
DESCRIPTION:\n\nhttps://www.auremisjonshus.no/kalender/2017/10/05/eldres-hyggestund/290/
X-MICROSOFT-CDO-ALLDAYEVENT:TRUE
END:VEVENT

END:VCALENDAR