BEGIN:VCALENDAR
VERSION:2.0
PRODID:-//mWEB//NONSGML mWEB//NB
URL:https://www.auremisjonshus.no/kalender/ics
X-WR-CALNAME:Aure Misjonshus
REFRESH-INTERVAL;VALUE=DURATION:PT6H
X-PUBLISHED-TTL:PT6H    
CALSCALE:GREGORIAN
BEGIN:VEVENT
UID:auremisjonshus.no-318
DTSTAMP:20260425T102216Z
DTSTART:20171003T153000Z
DTEND:20171003T170000Z
URL:https://www.auremisjonshus.no/kalender/2017/10/03/orneklubben/318/
CREATED:20170911T174658Z
LAST-MODIFIED:20170911T174658Z
SUMMARY:Ørneklubben
DESCRIPTION:Barnegospel for dei mellom 4 - 9 år.\n\nhttps://www.auremisjonshus.no/kalender/2017/10/03/orneklubben/318/
END:VEVENT

END:VCALENDAR