BEGIN:VCALENDAR
VERSION:2.0
PRODID:-//mWEB//NONSGML mWEB//NB
URL:https://www.auremisjonshus.no/kalender/ics
X-WR-CALNAME:Aure Misjonshus
REFRESH-INTERVAL;VALUE=DURATION:PT6H
X-PUBLISHED-TTL:PT6H    
CALSCALE:GREGORIAN
BEGIN:VEVENT
UID:auremisjonshus.no-303
DTSTAMP:20260425T101838Z
DTSTART:20171002T090000Z
DTEND:20171002T103000Z
URL:https://www.auremisjonshus.no/kalender/2017/10/02/babysang/303/
CREATED:20170904T154136Z
LAST-MODIFIED:20170904T154136Z
SUMMARY:Babysang
DESCRIPTION:\n\nhttps://www.auremisjonshus.no/kalender/2017/10/02/babysang/303/
END:VEVENT

END:VCALENDAR