BEGIN:VCALENDAR
VERSION:2.0
PRODID:-//mWEB//NONSGML mWEB//NB
URL:https://www.auremisjonshus.no/kalender/ics
X-WR-CALNAME:Aure Misjonshus
REFRESH-INTERVAL;VALUE=DURATION:PT6H
X-PUBLISHED-TTL:PT6H    
CALSCALE:GREGORIAN
BEGIN:VEVENT
UID:auremisjonshus.no-270
DTSTAMP:20260425T102253Z
DTSTART:20171001T140000Z
DTEND:20171001T153000Z
URL:https://www.auremisjonshus.no/kalender/2017/10/01/sundagsmote-ved-normisjon/270/
CREATED:20170511T192925Z
LAST-MODIFIED:20170511T192937Z
SUMMARY:Sundagsmøte ved Normisjon
DESCRIPTION:\n\nhttps://www.auremisjonshus.no/kalender/2017/10/01/sundagsmote-ved-normisjon/270/
END:VEVENT

END:VCALENDAR