BEGIN:VCALENDAR
VERSION:2.0
PRODID:-//mWEB//NONSGML mWEB//NB
URL:https://www.auremisjonshus.no/kalender/ics
X-WR-CALNAME:Aure Misjonshus
REFRESH-INTERVAL;VALUE=DURATION:PT6H
X-PUBLISHED-TTL:PT6H    
CALSCALE:GREGORIAN
BEGIN:VEVENT
UID:auremisjonshus.no-323
DTSTAMP:20260425T120928Z
DTSTART:20170923T220000Z
DTEND:20170924T215900Z
URL:https://www.auremisjonshus.no/kalender/2017/09/24/utleige-aure-il/323/
CREATED:20170920T195053Z
LAST-MODIFIED:20170920T195053Z
SUMMARY:Utleige: Aure IL
DESCRIPTION:\n\nhttps://www.auremisjonshus.no/kalender/2017/09/24/utleige-aure-il/323/
X-MICROSOFT-CDO-ALLDAYEVENT:TRUE
END:VEVENT

END:VCALENDAR