BEGIN:VCALENDAR
VERSION:2.0
PRODID:-//mWEB//NONSGML mWEB//NB
URL:https://www.auremisjonshus.no/kalender/ics
X-WR-CALNAME:Aure Misjonshus
REFRESH-INTERVAL;VALUE=DURATION:PT6H
X-PUBLISHED-TTL:PT6H    
CALSCALE:GREGORIAN
BEGIN:VEVENT
UID:auremisjonshus.no-309
DTSTAMP:20260425T115428Z
DTSTART:20170918T150000Z
DTEND:20170918T163000Z
URL:https://www.auremisjonshus.no/kalender/2017/09/18/sangsprell/309/
CREATED:20170904T154307Z
LAST-MODIFIED:20170904T154307Z
SUMMARY:Sangsprell
DESCRIPTION:\n\nhttps://www.auremisjonshus.no/kalender/2017/09/18/sangsprell/309/
END:VEVENT

END:VCALENDAR