BEGIN:VCALENDAR
VERSION:2.0
PRODID:-//mWEB//NONSGML mWEB//NB
URL:https://www.auremisjonshus.no/kalender/ics
X-WR-CALNAME:Aure Misjonshus
REFRESH-INTERVAL;VALUE=DURATION:PT6H
X-PUBLISHED-TTL:PT6H    
CALSCALE:GREGORIAN
BEGIN:VEVENT
UID:auremisjonshus.no-302
DTSTAMP:20260425T120634Z
DTSTART:20170918T090000Z
DTEND:20170918T103000Z
URL:https://www.auremisjonshus.no/kalender/2017/09/18/babysang/302/
CREATED:20170904T154125Z
LAST-MODIFIED:20170904T154125Z
SUMMARY:Babysang
DESCRIPTION:\n\nhttps://www.auremisjonshus.no/kalender/2017/09/18/babysang/302/
END:VEVENT

END:VCALENDAR