BEGIN:VCALENDAR
VERSION:2.0
PRODID:-//mWEB//NONSGML mWEB//NB
URL:https://www.auremisjonshus.no/kalender/ics
X-WR-CALNAME:Aure Misjonshus
REFRESH-INTERVAL;VALUE=DURATION:PT6H
X-PUBLISHED-TTL:PT6H    
CALSCALE:GREGORIAN
BEGIN:VEVENT
UID:auremisjonshus.no-289
DTSTAMP:20260425T122402Z
DTSTART:20170913T220000Z
DTEND:20170914T215900Z
URL:https://www.auremisjonshus.no/kalender/2017/09/14/eldres-hyggestund/289/
CREATED:20170817T123221Z
LAST-MODIFIED:20170817T123221Z
SUMMARY:Eldres hyggestund
DESCRIPTION:\n\nhttps://www.auremisjonshus.no/kalender/2017/09/14/eldres-hyggestund/289/
X-MICROSOFT-CDO-ALLDAYEVENT:TRUE
END:VEVENT

END:VCALENDAR