BEGIN:VCALENDAR
VERSION:2.0
PRODID:-//mWEB//NONSGML mWEB//NB
URL:https://www.auremisjonshus.no/kalender/ics
X-WR-CALNAME:Aure Misjonshus
REFRESH-INTERVAL;VALUE=DURATION:PT6H
X-PUBLISHED-TTL:PT6H    
CALSCALE:GREGORIAN
BEGIN:VEVENT
UID:auremisjonshus.no-317
DTSTAMP:20260425T122325Z
DTSTART:20170912T153000Z
DTEND:20170912T170000Z
URL:https://www.auremisjonshus.no/kalender/2017/09/12/orneklubben/317/
CREATED:20170911T174642Z
LAST-MODIFIED:20170911T174642Z
SUMMARY:Ørneklubben
DESCRIPTION:Barnegospel for dei mellom 4 - 9 år.\n\nhttps://www.auremisjonshus.no/kalender/2017/09/12/orneklubben/317/
END:VEVENT

END:VCALENDAR