BEGIN:VCALENDAR
VERSION:2.0
PRODID:-//mWEB//NONSGML mWEB//NB
URL:https://www.auremisjonshus.no/kalender/ics
X-WR-CALNAME:Aure Misjonshus
REFRESH-INTERVAL;VALUE=DURATION:PT6H
X-PUBLISHED-TTL:PT6H    
CALSCALE:GREGORIAN
BEGIN:VEVENT
UID:auremisjonshus.no-294
DTSTAMP:20260425T134756Z
DTSTART:20170828T220000Z
DTEND:20170829T215900Z
URL:https://www.auremisjonshus.no/kalender/2017/08/29/konfirmantundervisning/294/
CREATED:20170817T124323Z
LAST-MODIFIED:20170817T124323Z
SUMMARY:Konfirmantundervisning
DESCRIPTION:\n\nhttps://www.auremisjonshus.no/kalender/2017/08/29/konfirmantundervisning/294/
X-MICROSOFT-CDO-ALLDAYEVENT:TRUE
END:VEVENT

END:VCALENDAR