BEGIN:VCALENDAR
VERSION:2.0
PRODID:-//mWEB//NONSGML mWEB//NB
URL:https://www.auremisjonshus.no/kalender/ics
X-WR-CALNAME:Aure Misjonshus
REFRESH-INTERVAL;VALUE=DURATION:PT6H
X-PUBLISHED-TTL:PT6H    
CALSCALE:GREGORIAN
BEGIN:VEVENT
UID:auremisjonshus.no-281
DTSTAMP:20260425T141234Z
DTSTART:20170827T140000Z
DTEND:20170827T153000Z
URL:https://www.auremisjonshus.no/kalender/2017/08/27/samlingsfest/281/
CREATED:20170802T091223Z
LAST-MODIFIED:20170821T202803Z
SUMMARY:Samlingsfest
DESCRIPTION:Velkomen til samlingsfest for Aure Misjonshus. Andakt ved Kjell Pettersen. Servering etter møtet. Arr. Aure Misjsinshuslag.\n\nhttps://www.auremisjonshus.no/kalender/2017/08/27/samlingsfest/281/
END:VEVENT

END:VCALENDAR