BEGIN:VCALENDAR
VERSION:2.0
PRODID:-//mWEB//NONSGML mWEB//NB
URL:https://www.auremisjonshus.no/kalender/ics
X-WR-CALNAME:Aure Misjonshus
REFRESH-INTERVAL;VALUE=DURATION:PT6H
X-PUBLISHED-TTL:PT6H    
CALSCALE:GREGORIAN
BEGIN:VEVENT
UID:auremisjonshus.no-293
DTSTAMP:20260425T141402Z
DTSTART:20170821T220000Z
DTEND:20170822T215900Z
URL:https://www.auremisjonshus.no/kalender/2017/08/22/konfirmantundervisning/293/
CREATED:20170817T123403Z
LAST-MODIFIED:20170817T123403Z
SUMMARY:Konfirmantundervisning
DESCRIPTION:\n\nhttps://www.auremisjonshus.no/kalender/2017/08/22/konfirmantundervisning/293/
X-MICROSOFT-CDO-ALLDAYEVENT:TRUE
END:VEVENT

END:VCALENDAR