BEGIN:VCALENDAR
VERSION:2.0
PRODID:-//mWEB//NONSGML mWEB//NB
URL:https://www.auremisjonshus.no/kalender/ics
X-WR-CALNAME:Aure Misjonshus
REFRESH-INTERVAL;VALUE=DURATION:PT6H
X-PUBLISHED-TTL:PT6H    
CALSCALE:GREGORIAN
BEGIN:VEVENT
UID:auremisjonshus.no-218
DTSTAMP:20260425T141347Z
DTSTART:20170816T220000Z
DTEND:20170817T215900Z
URL:https://www.auremisjonshus.no/kalender/2017/08/17/utleige-toppidrettsveka/218/
CREATED:20170122T113254Z
LAST-MODIFIED:20170404T081710Z
SUMMARY:Utleige: Toppidrettsveka
DESCRIPTION:\n\nhttps://www.auremisjonshus.no/kalender/2017/08/17/utleige-toppidrettsveka/218/
X-MICROSOFT-CDO-ALLDAYEVENT:TRUE
END:VEVENT

END:VCALENDAR