BEGIN:VCALENDAR
VERSION:2.0
PRODID:-//mWEB//NONSGML mWEB//NB
URL:https://www.auremisjonshus.no/kalender/ics
X-WR-CALNAME:Aure Misjonshus
REFRESH-INTERVAL;VALUE=DURATION:PT6H
X-PUBLISHED-TTL:PT6H    
CALSCALE:GREGORIAN
BEGIN:VEVENT
UID:auremisjonshus.no-254
DTSTAMP:20260425T134842Z
DTSTART:20170808T220000Z
DTEND:20170809T215900Z
URL:https://www.auremisjonshus.no/kalender/2017/08/09/bu-heime-leir-aure-misjonshus/254/
CREATED:20170304T111156Z
LAST-MODIFIED:20170304T111156Z
SUMMARY:Bu-heime-leir - Aure Misjonshus
DESCRIPTION:\n\nhttps://www.auremisjonshus.no/kalender/2017/08/09/bu-heime-leir-aure-misjonshus/254/
X-MICROSOFT-CDO-ALLDAYEVENT:TRUE
END:VEVENT

END:VCALENDAR