BEGIN:VCALENDAR
VERSION:2.0
PRODID:-//mWEB//NONSGML mWEB//NB
URL:https://www.auremisjonshus.no/kalender/ics
X-WR-CALNAME:Aure Misjonshus
REFRESH-INTERVAL;VALUE=DURATION:PT6H
X-PUBLISHED-TTL:PT6H    
CALSCALE:GREGORIAN
BEGIN:VEVENT
UID:auremisjonshus.no-275
DTSTAMP:20260425T135056Z
DTSTART:20170806T110000Z
DTEND:20170806T123000Z
URL:https://www.auremisjonshus.no/kalender/2017/08/06/bjornholmen-bjornholmstemnet/275/
CREATED:20170625T201854Z
LAST-MODIFIED:20170625T201854Z
SUMMARY:Bjørnholmen: Bjørnholmstemnet
DESCRIPTION:Velkomen til Bjørnholmstemnet. Det går båtskyss frå kaia ved Bygg Mix i Aure sentrum kl 12.30. \n\n \n\nKlokka 13 er det møte med andakt og songinnslag. I etterkant / fortsettinga av møtet blir det vitnestund. Etter møtet blir det sal av pølse og brø...\n\nhttps://www.auremisjonshus.no/kalender/2017/08/06/bjornholmen-bjornholmstemnet/275/
END:VEVENT

END:VCALENDAR