BEGIN:VCALENDAR
VERSION:2.0
PRODID:-//mWEB//NONSGML mWEB//NB
URL:https://www.auremisjonshus.no/kalender/ics
X-WR-CALNAME:Aure Misjonshus
REFRESH-INTERVAL;VALUE=DURATION:PT6H
X-PUBLISHED-TTL:PT6H    
CALSCALE:GREGORIAN
BEGIN:VEVENT
UID:auremisjonshus.no-271
DTSTAMP:20260425T175441Z
DTSTART:20170625T140000Z
DTEND:20170625T153000Z
URL:https://www.auremisjonshus.no/kalender/2017/06/25/skar-hagemote-hos-ruth-og-morten-arve-gjerde/271/
CREATED:20170522T161938Z
LAST-MODIFIED:20170522T161938Z
SUMMARY:Skar: Hagemøte hos Ruth og Morten Arve Gjerde
DESCRIPTION:Jens Espeland taler. Sang av Br. Gjerde. Kollekt og kaffe.\nArr.: NLM Skarsgrenda foreni\n\nhttps://www.auremisjonshus.no/kalender/2017/06/25/skar-hagemote-hos-ruth-og-morten-arve-gjerde/271/
END:VEVENT

END:VCALENDAR