BEGIN:VCALENDAR
VERSION:2.0
PRODID:-//mWEB//NONSGML mWEB//NB
URL:https://www.auremisjonshus.no/kalender/ics
X-WR-CALNAME:Aure Misjonshus
REFRESH-INTERVAL;VALUE=DURATION:PT6H
X-PUBLISHED-TTL:PT6H    
CALSCALE:GREGORIAN
BEGIN:VEVENT
UID:auremisjonshus.no-215
DTSTAMP:20260425T174617Z
DTSTART:20170618T130000Z
DTEND:20170618T143000Z
URL:https://www.auremisjonshus.no/kalender/2017/06/18/50ars-jubileum-aure-misjonshus/215/
CREATED:20170122T112917Z
LAST-MODIFIED:20170528T201813Z
SUMMARY:50års jubileum Aure misjonshus
DESCRIPTION:\n\nhttps://www.auremisjonshus.no/kalender/2017/06/18/50ars-jubileum-aure-misjonshus/215/
END:VEVENT

END:VCALENDAR