BEGIN:VCALENDAR
VERSION:2.0
PRODID:-//mWEB//NONSGML mWEB//NB
URL:https://www.auremisjonshus.no/kalender/ics
X-WR-CALNAME:Aure Misjonshus
REFRESH-INTERVAL;VALUE=DURATION:PT6H
X-PUBLISHED-TTL:PT6H    
CALSCALE:GREGORIAN
BEGIN:VEVENT
UID:auremisjonshus.no-261
DTSTAMP:20260425T174247Z
DTSTART:20170603T220000Z
DTEND:20170604T215900Z
URL:https://www.auremisjonshus.no/kalender/2017/06/04/utleige-dapsselskap/261/
CREATED:20170328T113938Z
LAST-MODIFIED:20170330T200415Z
SUMMARY:Utleige: Dåpsselskap
DESCRIPTION:\n\nhttps://www.auremisjonshus.no/kalender/2017/06/04/utleige-dapsselskap/261/
X-MICROSOFT-CDO-ALLDAYEVENT:TRUE
END:VEVENT

END:VCALENDAR