BEGIN:VCALENDAR
VERSION:2.0
PRODID:-//mWEB//NONSGML mWEB//NB
URL:https://www.auremisjonshus.no/kalender/ics
X-WR-CALNAME:Aure Misjonshus
REFRESH-INTERVAL;VALUE=DURATION:PT6H
X-PUBLISHED-TTL:PT6H    
CALSCALE:GREGORIAN
BEGIN:VEVENT
UID:auremisjonshus.no-272
DTSTAMP:20260425T174546Z
DTSTART:20170602T160000Z
DTEND:20170602T190000Z
URL:https://www.auremisjonshus.no/kalender/2017/06/02/kjorsvikbugen-bedehus-ungdomscafe/272/
CREATED:20170529T064844Z
LAST-MODIFIED:20170529T064844Z
SUMMARY:Kjørsvikbugen bedehus: Ungdomscafe
DESCRIPTION:Fyrløkta Ungdomscafe åpen fra 18-21\, fredag 2 juni\, 13-19 år\,  Kjørsvikbugen bedehus\n\nhttps://www.auremisjonshus.no/kalender/2017/06/02/kjorsvikbugen-bedehus-ungdomscafe/272/
END:VEVENT

END:VCALENDAR