BEGIN:VCALENDAR
VERSION:2.0
PRODID:-//mWEB//NONSGML mWEB//NB
URL:https://www.auremisjonshus.no/kalender/ics
X-WR-CALNAME:Aure Misjonshus
REFRESH-INTERVAL;VALUE=DURATION:PT6H
X-PUBLISHED-TTL:PT6H    
CALSCALE:GREGORIAN
BEGIN:VEVENT
UID:auremisjonshus.no-273
DTSTAMP:20260425T180402Z
DTSTART:20170531T220000Z
DTEND:20170601T215900Z
URL:https://www.auremisjonshus.no/kalender/2017/06/01/utleige-minnesamvaer/273/
CREATED:20170531T163855Z
LAST-MODIFIED:20170531T163855Z
SUMMARY:Utleige: Minnesamvær
DESCRIPTION:\n\nhttps://www.auremisjonshus.no/kalender/2017/06/01/utleige-minnesamvaer/273/
X-MICROSOFT-CDO-ALLDAYEVENT:TRUE
END:VEVENT

END:VCALENDAR