BEGIN:VCALENDAR
VERSION:2.0
PRODID:-//mWEB//NONSGML mWEB//NB
URL:https://www.auremisjonshus.no/kalender/ics
X-WR-CALNAME:Aure Misjonshus
REFRESH-INTERVAL;VALUE=DURATION:PT6H
X-PUBLISHED-TTL:PT6H    
CALSCALE:GREGORIAN
BEGIN:VEVENT
UID:auremisjonshus.no-190
DTSTAMP:20260425T193134Z
DTSTART:20170531T173000Z
DTEND:20170531T190000Z
URL:https://www.auremisjonshus.no/kalender/2017/05/31/sang-i-sommerkveld/190/
CREATED:20170105T140211Z
LAST-MODIFIED:20170417T161532Z
SUMMARY:Sang i Sommerkveld
DESCRIPTION:Sangkveld med misjonskoret og flere bidragsytere. Men mest av alt skal vi sammen synge våre kjente og kjære sanger.\nTil slutt er det kveldsbuffe. Velkomme\n\nhttps://www.auremisjonshus.no/kalender/2017/05/31/sang-i-sommerkveld/190/
END:VEVENT

END:VCALENDAR