BEGIN:VCALENDAR
VERSION:2.0
PRODID:-//mWEB//NONSGML mWEB//NB
URL:https://www.auremisjonshus.no/kalender/ics
X-WR-CALNAME:Aure Misjonshus
REFRESH-INTERVAL;VALUE=DURATION:PT6H
X-PUBLISHED-TTL:PT6H    
CALSCALE:GREGORIAN
BEGIN:VEVENT
UID:auremisjonshus.no-229
DTSTAMP:20260425T192643Z
DTSTART:20170529T150000Z
DTEND:20170529T163000Z
URL:https://www.auremisjonshus.no/kalender/2017/05/29/sangsprell/229/
CREATED:20170131T161016Z
LAST-MODIFIED:20170304T110926Z
SUMMARY:Sangsprell
DESCRIPTION:\n\nhttps://www.auremisjonshus.no/kalender/2017/05/29/sangsprell/229/
LOCATION:Aure misjonshus
END:VEVENT

END:VCALENDAR