BEGIN:VCALENDAR
VERSION:2.0
PRODID:-//mWEB//NONSGML mWEB//NB
URL:https://www.auremisjonshus.no/kalender/ics
X-WR-CALNAME:Aure Misjonshus
REFRESH-INTERVAL;VALUE=DURATION:PT6H
X-PUBLISHED-TTL:PT6H    
CALSCALE:GREGORIAN
BEGIN:VEVENT
UID:auremisjonshus.no-221
DTSTAMP:20260425T193416Z
DTSTART:20170520T220000Z
DTEND:20170521T215900Z
URL:https://www.auremisjonshus.no/kalender/2017/05/21/utleige-konfirmasjonsselskap/221/
CREATED:20170126T123842Z
LAST-MODIFIED:20170519T084310Z
SUMMARY:Utleige: Konfirmasjonsselskap
DESCRIPTION:\n\nhttps://www.auremisjonshus.no/kalender/2017/05/21/utleige-konfirmasjonsselskap/221/
X-MICROSOFT-CDO-ALLDAYEVENT:TRUE
END:VEVENT

END:VCALENDAR