BEGIN:VCALENDAR
VERSION:2.0
PRODID:-//mWEB//NONSGML mWEB//NB
URL:https://www.auremisjonshus.no/kalender/ics
X-WR-CALNAME:Aure Misjonshus
REFRESH-INTERVAL;VALUE=DURATION:PT6H
X-PUBLISHED-TTL:PT6H    
CALSCALE:GREGORIAN
BEGIN:VEVENT
UID:auremisjonshus.no-195
DTSTAMP:20260425T193441Z
DTSTART:20170511T140000Z
DTEND:20170511T153000Z
URL:https://www.auremisjonshus.no/kalender/2017/05/11/eldres-hyggestund/195/
CREATED:20170105T140328Z
LAST-MODIFIED:20170304T110824Z
SUMMARY:Eldres hyggestund
DESCRIPTION:\n\nhttps://www.auremisjonshus.no/kalender/2017/05/11/eldres-hyggestund/195/
END:VEVENT

END:VCALENDAR