BEGIN:VCALENDAR
VERSION:2.0
PRODID:-//mWEB//NONSGML mWEB//NB
URL:https://www.auremisjonshus.no/kalender/ics
X-WR-CALNAME:Aure Misjonshus
REFRESH-INTERVAL;VALUE=DURATION:PT6H
X-PUBLISHED-TTL:PT6H    
CALSCALE:GREGORIAN
BEGIN:VEVENT
UID:auremisjonshus.no-267
DTSTAMP:20260425T192832Z
DTSTART:20170509T220000Z
DTEND:20170510T215900Z
URL:https://www.auremisjonshus.no/kalender/2017/05/10/vardugnad/267/
CREATED:20170406T200547Z
LAST-MODIFIED:20170406T200547Z
SUMMARY:Vårdugnad
DESCRIPTION:\n\nhttps://www.auremisjonshus.no/kalender/2017/05/10/vardugnad/267/
X-MICROSOFT-CDO-ALLDAYEVENT:TRUE
END:VEVENT

END:VCALENDAR