BEGIN:VCALENDAR
VERSION:2.0
PRODID:-//mWEB//NONSGML mWEB//NB
URL:https://www.auremisjonshus.no/kalender/ics
X-WR-CALNAME:Aure Misjonshus
REFRESH-INTERVAL;VALUE=DURATION:PT6H
X-PUBLISHED-TTL:PT6H    
CALSCALE:GREGORIAN
BEGIN:VEVENT
UID:auremisjonshus.no-189
DTSTAMP:20260425T193140Z
DTSTART:20170509T220000Z
DTEND:20170510T215900Z
URL:https://www.auremisjonshus.no/kalender/2017/05/10/oving-aure-misjonskor/189/
CREATED:20170105T140201Z
LAST-MODIFIED:20170304T110812Z
SUMMARY:Øving Aure Misjonskor
DESCRIPTION:\n\nhttps://www.auremisjonshus.no/kalender/2017/05/10/oving-aure-misjonskor/189/
X-MICROSOFT-CDO-ALLDAYEVENT:TRUE
END:VEVENT

END:VCALENDAR