BEGIN:VCALENDAR
VERSION:2.0
PRODID:-//mWEB//NONSGML mWEB//NB
URL:https://www.auremisjonshus.no/kalender/ics
X-WR-CALNAME:Aure Misjonshus
REFRESH-INTERVAL;VALUE=DURATION:PT6H
X-PUBLISHED-TTL:PT6H    
CALSCALE:GREGORIAN
BEGIN:VEVENT
UID:auremisjonshus.no-266
DTSTAMP:20260425T192746Z
DTSTART:20170508T220000Z
DTEND:20170509T215900Z
URL:https://www.auremisjonshus.no/kalender/2017/05/09/vardugnad/266/
CREATED:20170406T200528Z
LAST-MODIFIED:20170406T200528Z
SUMMARY:Vårdugnad
DESCRIPTION:\n\nhttps://www.auremisjonshus.no/kalender/2017/05/09/vardugnad/266/
X-MICROSOFT-CDO-ALLDAYEVENT:TRUE
END:VEVENT

END:VCALENDAR