BEGIN:VCALENDAR
VERSION:2.0
PRODID:-//mWEB//NONSGML mWEB//NB
URL:https://www.auremisjonshus.no/kalender/ics
X-WR-CALNAME:Aure Misjonshus
REFRESH-INTERVAL;VALUE=DURATION:PT6H
X-PUBLISHED-TTL:PT6H    
CALSCALE:GREGORIAN
BEGIN:VEVENT
UID:auremisjonshus.no-269
DTSTAMP:20260425T193320Z
DTSTART:20170507T090000Z
DTEND:20170507T103000Z
URL:https://www.auremisjonshus.no/kalender/2017/05/07/kjorsvikbugen-bedehus-konfirmasjon-med-seremoni/269/
CREATED:20170502T080007Z
LAST-MODIFIED:20170502T080007Z
SUMMARY:Kjørsvikbugen bedehus: Konfirmasjon med seremoni
DESCRIPTION:\n\nhttps://www.auremisjonshus.no/kalender/2017/05/07/kjorsvikbugen-bedehus-konfirmasjon-med-seremoni/269/
END:VEVENT

END:VCALENDAR