BEGIN:VCALENDAR
VERSION:2.0
PRODID:-//mWEB//NONSGML mWEB//NB
URL:https://www.auremisjonshus.no/kalender/ics
X-WR-CALNAME:Aure Misjonshus
REFRESH-INTERVAL;VALUE=DURATION:PT6H
X-PUBLISHED-TTL:PT6H    
CALSCALE:GREGORIAN
BEGIN:VEVENT
UID:auremisjonshus.no-256
DTSTAMP:20260425T192945Z
DTSTART:20170505T220000Z
DTEND:20170506T215900Z
URL:https://www.auremisjonshus.no/kalender/2017/05/06/utleige-katolsk-samling/256/
CREATED:20170307T112959Z
LAST-MODIFIED:20170404T081538Z
SUMMARY:Utleige: Katolsk samling
DESCRIPTION:\n\nhttps://www.auremisjonshus.no/kalender/2017/05/06/utleige-katolsk-samling/256/
X-MICROSOFT-CDO-ALLDAYEVENT:TRUE
END:VEVENT

END:VCALENDAR